BEGIN:VCALENDAR
VERSION:2.0
PRODID:-//Club Senior Prënzebierg - ECPv5.8.2//NONSGML v1.0//EN
CALSCALE:GREGORIAN
METHOD:PUBLISH
X-WR-CALNAME:Club Senior Prënzebierg
X-ORIGINAL-URL:http://www.clubprenzebierg.lu
X-WR-CALDESC:Events for Club Senior Prënzebierg
BEGIN:VTIMEZONE
TZID:Europe/Paris
BEGIN:DAYLIGHT
TZOFFSETFROM:+0100
TZOFFSETTO:+0200
TZNAME:CEST
DTSTART:20210328T010000
END:DAYLIGHT
BEGIN:STANDARD
TZOFFSETFROM:+0200
TZOFFSETTO:+0100
TZNAME:CET
DTSTART:20211031T010000
END:STANDARD
END:VTIMEZONE
BEGIN:VEVENT
DTSTART;TZID=Europe/Paris:20210902T130000
DTEND;TZID=Europe/Paris:20210902T170000
DTSTAMP:20211007T145647
CREATED:20210831T085941Z
LAST-MODIFIED:20210831T085941Z
UID:629-1630587600-1630602000@www.clubprenzebierg.lu
SUMMARY:Autre manifestation
DESCRIPTION:
URL:http://www.clubprenzebierg.lu/event/autre-manifestation/
END:VEVENT
END:VCALENDAR