BEGIN:VCALENDAR
VERSION:2.0
PRODID:-//Club Senior Prënzebierg - ECPv5.8.2//NONSGML v1.0//EN
CALSCALE:GREGORIAN
METHOD:PUBLISH
X-WR-CALNAME:Club Senior Prënzebierg
X-ORIGINAL-URL:http://www.clubprenzebierg.lu
X-WR-CALDESC:Events for Club Senior Prënzebierg
BEGIN:VTIMEZONE
TZID:Europe/Paris
BEGIN:DAYLIGHT
TZOFFSETFROM:+0100
TZOFFSETTO:+0200
TZNAME:CEST
DTSTART:20210328T010000
END:DAYLIGHT
BEGIN:STANDARD
TZOFFSETFROM:+0200
TZOFFSETTO:+0100
TZNAME:CET
DTSTART:20211031T010000
END:STANDARD
END:VTIMEZONE
BEGIN:VEVENT
DTSTART;TZID=Europe/Paris:20210831T080000
DTEND;TZID=Europe/Paris:20210831T120000
DTSTAMP:20211007T145626
CREATED:20210831T085914Z
LAST-MODIFIED:20210831T085914Z
UID:627-1630396800-1630411200@www.clubprenzebierg.lu
SUMMARY:Nouvel évènement
DESCRIPTION:
URL:http://www.clubprenzebierg.lu/event/nouvel-evenement/
END:VEVENT
END:VCALENDAR